BEGIN:VCALENDAR
VERSION:2.0
PRODID:-//MAGliss&#039;XS - Roller Club - Asnières Sur Seine - ECPv6.15.20//NONSGML v1.0//EN
CALSCALE:GREGORIAN
METHOD:PUBLISH
X-ORIGINAL-URL:https://maglissxs.com
X-WR-CALDESC:Évènements pour MAGliss&#039;XS - Roller Club - Asnières Sur Seine
REFRESH-INTERVAL;VALUE=DURATION:PT1H
X-Robots-Tag:noindex
X-PUBLISHED-TTL:PT1H
BEGIN:VTIMEZONE
TZID:Europe/Paris
BEGIN:DAYLIGHT
TZOFFSETFROM:+0100
TZOFFSETTO:+0200
TZNAME:CEST
DTSTART:20220327T010000
END:DAYLIGHT
BEGIN:STANDARD
TZOFFSETFROM:+0200
TZOFFSETTO:+0100
TZNAME:CET
DTSTART:20221030T010000
END:STANDARD
BEGIN:DAYLIGHT
TZOFFSETFROM:+0100
TZOFFSETTO:+0200
TZNAME:CEST
DTSTART:20230326T010000
END:DAYLIGHT
BEGIN:STANDARD
TZOFFSETFROM:+0200
TZOFFSETTO:+0100
TZNAME:CET
DTSTART:20231029T010000
END:STANDARD
BEGIN:DAYLIGHT
TZOFFSETFROM:+0100
TZOFFSETTO:+0200
TZNAME:CEST
DTSTART:20240331T010000
END:DAYLIGHT
BEGIN:STANDARD
TZOFFSETFROM:+0200
TZOFFSETTO:+0100
TZNAME:CET
DTSTART:20241027T010000
END:STANDARD
END:VTIMEZONE
BEGIN:VEVENT
DTSTART;VALUE=DATE:20231216
DTEND;VALUE=DATE:20231217
DTSTAMP:20260424T104426
CREATED:20231212T135422Z
LAST-MODIFIED:20231212T135422Z
UID:31300-1702684800-1702771199@maglissxs.com
SUMMARY:Assemblée Générale Fédération Française de Roller & de Skateboard\, grande piste vitesse sur glace
DESCRIPTION:
URL:https://maglissxs.com/event/assemblee-generale-federation-francaise-de-roller-de-skateboard-grande-piste-vitesse-sur-glace/
LOCATION:CNOSF\, 1\, avenue Pierre De COUBERTIN\, Paris\, 75013\, France
END:VEVENT
END:VCALENDAR