BEGIN:VCALENDAR
VERSION:2.0
PRODID:-//MAGliss&#039;XS - Roller Club - Asnières Sur Seine - ECPv6.15.20//NONSGML v1.0//EN
CALSCALE:GREGORIAN
METHOD:PUBLISH
X-WR-CALNAME:MAGliss&#039;XS - Roller Club - Asnières Sur Seine
X-ORIGINAL-URL:https://maglissxs.com
X-WR-CALDESC:Évènements pour MAGliss&#039;XS - Roller Club - Asnières Sur Seine
REFRESH-INTERVAL;VALUE=DURATION:PT1H
X-Robots-Tag:noindex
X-PUBLISHED-TTL:PT1H
BEGIN:VTIMEZONE
TZID:Europe/Paris
BEGIN:DAYLIGHT
TZOFFSETFROM:+0100
TZOFFSETTO:+0200
TZNAME:CEST
DTSTART:20230326T010000
END:DAYLIGHT
BEGIN:STANDARD
TZOFFSETFROM:+0200
TZOFFSETTO:+0100
TZNAME:CET
DTSTART:20231029T010000
END:STANDARD
BEGIN:DAYLIGHT
TZOFFSETFROM:+0100
TZOFFSETTO:+0200
TZNAME:CEST
DTSTART:20240331T010000
END:DAYLIGHT
BEGIN:STANDARD
TZOFFSETFROM:+0200
TZOFFSETTO:+0100
TZNAME:CET
DTSTART:20241027T010000
END:STANDARD
BEGIN:DAYLIGHT
TZOFFSETFROM:+0100
TZOFFSETTO:+0200
TZNAME:CEST
DTSTART:20250330T010000
END:DAYLIGHT
BEGIN:STANDARD
TZOFFSETFROM:+0200
TZOFFSETTO:+0100
TZNAME:CET
DTSTART:20251026T010000
END:STANDARD
END:VTIMEZONE
BEGIN:VEVENT
DTSTART;TZID=Europe/Paris:20240324T130000
DTEND;TZID=Europe/Paris:20240324T180000
DTSTAMP:20260422T215614
CREATED:20240112T101720Z
LAST-MODIFIED:20240315T175856Z
UID:31459-1711285200-1711303200@maglissxs.com
SUMMARY:KIDS ROLLER_1ère étape : Asnières-sur-Seine
DESCRIPTION:
URL:https://maglissxs.com/event/kids-roller_1ere-etape-chez-nous/
END:VEVENT
END:VCALENDAR