BEGIN:VCALENDAR
VERSION:2.0
PRODID:-//MAGliss&#039;XS - Roller Club - Asnières Sur Seine - ECPv6.15.20//NONSGML v1.0//EN
CALSCALE:GREGORIAN
METHOD:PUBLISH
X-ORIGINAL-URL:https://maglissxs.com
X-WR-CALDESC:Évènements pour MAGliss&#039;XS - Roller Club - Asnières Sur Seine
REFRESH-INTERVAL;VALUE=DURATION:PT1H
X-Robots-Tag:noindex
X-PUBLISHED-TTL:PT1H
BEGIN:VTIMEZONE
TZID:Europe/Paris
BEGIN:DAYLIGHT
TZOFFSETFROM:+0100
TZOFFSETTO:+0200
TZNAME:CEST
DTSTART:20230326T010000
END:DAYLIGHT
BEGIN:STANDARD
TZOFFSETFROM:+0200
TZOFFSETTO:+0100
TZNAME:CET
DTSTART:20231029T010000
END:STANDARD
BEGIN:DAYLIGHT
TZOFFSETFROM:+0100
TZOFFSETTO:+0200
TZNAME:CEST
DTSTART:20240331T010000
END:DAYLIGHT
BEGIN:STANDARD
TZOFFSETFROM:+0200
TZOFFSETTO:+0100
TZNAME:CET
DTSTART:20241027T010000
END:STANDARD
BEGIN:DAYLIGHT
TZOFFSETFROM:+0100
TZOFFSETTO:+0200
TZNAME:CEST
DTSTART:20250330T010000
END:DAYLIGHT
BEGIN:STANDARD
TZOFFSETFROM:+0200
TZOFFSETTO:+0100
TZNAME:CET
DTSTART:20251026T010000
END:STANDARD
END:VTIMEZONE
BEGIN:VEVENT
DTSTART;TZID=Europe/Paris:20241109T190000
DTEND;TZID=Europe/Paris:20241109T230000
DTSTAMP:20260422T022802
CREATED:20241109T102217Z
LAST-MODIFIED:20241109T121555Z
UID:31698-1731178800-1731193200@maglissxs.com
SUMMARY:Fashion Wheels du 09 novembre 2024 à l'Espace DELAGE
DESCRIPTION:
URL:https://maglissxs.com/event/fashion-wheels-du-09-novembre-2024-a-lespace-delage/
ATTACH;FMTTYPE=image/jpeg:https://maglissxs.com/wp-content/uploads/2024/11/roller-dance-9-novembre-2024-affiche.jpg
ORGANIZER;CN="CDRS92":MAILTO:comite.cdrs92@gmail.com
END:VEVENT
END:VCALENDAR