BEGIN:VCALENDAR
VERSION:2.0
PRODID:-//MAGliss&#039;XS - Roller Club - Asnières Sur Seine - ECPv6.15.20//NONSGML v1.0//EN
CALSCALE:GREGORIAN
METHOD:PUBLISH
X-WR-CALNAME:MAGliss&#039;XS - Roller Club - Asnières Sur Seine
X-ORIGINAL-URL:https://maglissxs.com
X-WR-CALDESC:Évènements pour MAGliss&#039;XS - Roller Club - Asnières Sur Seine
REFRESH-INTERVAL;VALUE=DURATION:PT1H
X-Robots-Tag:noindex
X-PUBLISHED-TTL:PT1H
BEGIN:VTIMEZONE
TZID:Europe/Paris
BEGIN:DAYLIGHT
TZOFFSETFROM:+0100
TZOFFSETTO:+0200
TZNAME:CEST
DTSTART:20230326T010000
END:DAYLIGHT
BEGIN:STANDARD
TZOFFSETFROM:+0200
TZOFFSETTO:+0100
TZNAME:CET
DTSTART:20231029T010000
END:STANDARD
BEGIN:DAYLIGHT
TZOFFSETFROM:+0100
TZOFFSETTO:+0200
TZNAME:CEST
DTSTART:20240331T010000
END:DAYLIGHT
BEGIN:STANDARD
TZOFFSETFROM:+0200
TZOFFSETTO:+0100
TZNAME:CET
DTSTART:20241027T010000
END:STANDARD
BEGIN:DAYLIGHT
TZOFFSETFROM:+0100
TZOFFSETTO:+0200
TZNAME:CEST
DTSTART:20250330T010000
END:DAYLIGHT
BEGIN:STANDARD
TZOFFSETFROM:+0200
TZOFFSETTO:+0100
TZNAME:CET
DTSTART:20251026T010000
END:STANDARD
END:VTIMEZONE
BEGIN:VEVENT
DTSTART;TZID=Europe/Paris:20241214T144500
DTEND;TZID=Europe/Paris:20241214T150000
DTSTAMP:20260421T210936
CREATED:20241123T161410Z
LAST-MODIFIED:20241123T161410Z
UID:31710-1734187500-1734188400@maglissxs.com
SUMMARY:ART'Mix pour le Marché de Noël
DESCRIPTION:
URL:https://maglissxs.com/event/artmix-pour-le-marche-de-noel/
LOCATION:Asnières-sur-seine (92)\, Asnières\, 92600\, France
ATTACH;FMTTYPE=image/jpeg:https://maglissxs.com/wp-content/uploads/2024/11/20241123_163941-scaled.jpg
END:VEVENT
BEGIN:VEVENT
DTSTART;TZID=Europe/Paris:20241221T093000
DTEND;TZID=Europe/Paris:20241221T130000
DTSTAMP:20260421T210936
CREATED:20241123T161058Z
LAST-MODIFIED:20241123T161058Z
UID:31708-1734773400-1734786000@maglissxs.com
SUMMARY:ROLLER Mix de Noël
DESCRIPTION:
URL:https://maglissxs.com/event/roller-mix-de-noel-2/
LOCATION:Gymnase Descartes (92600)\, 2/4 rue des Mourinoux\, Asnières-sur-Seine\, 92600\, France
ATTACH;FMTTYPE=image/jpeg:https://maglissxs.com/wp-content/uploads/2024/01/20231223_115123-scaled.jpg
ORGANIZER;CN="CDRS92":MAILTO:comite.cdrs92@gmail.com
END:VEVENT
END:VCALENDAR