BEGIN:VCALENDAR
VERSION:2.0
PRODID:-//MAGliss&#039;XS - Roller Club - Asnières Sur Seine - ECPv6.15.20//NONSGML v1.0//EN
CALSCALE:GREGORIAN
METHOD:PUBLISH
X-WR-CALNAME:MAGliss&#039;XS - Roller Club - Asnières Sur Seine
X-ORIGINAL-URL:https://maglissxs.com
X-WR-CALDESC:Évènements pour MAGliss&#039;XS - Roller Club - Asnières Sur Seine
REFRESH-INTERVAL;VALUE=DURATION:PT1H
X-Robots-Tag:noindex
X-PUBLISHED-TTL:PT1H
BEGIN:VTIMEZONE
TZID:Europe/Paris
BEGIN:DAYLIGHT
TZOFFSETFROM:+0100
TZOFFSETTO:+0200
TZNAME:CEST
DTSTART:20240331T010000
END:DAYLIGHT
BEGIN:STANDARD
TZOFFSETFROM:+0200
TZOFFSETTO:+0100
TZNAME:CET
DTSTART:20241027T010000
END:STANDARD
BEGIN:DAYLIGHT
TZOFFSETFROM:+0100
TZOFFSETTO:+0200
TZNAME:CEST
DTSTART:20250330T010000
END:DAYLIGHT
BEGIN:STANDARD
TZOFFSETFROM:+0200
TZOFFSETTO:+0100
TZNAME:CET
DTSTART:20251026T010000
END:STANDARD
BEGIN:DAYLIGHT
TZOFFSETFROM:+0100
TZOFFSETTO:+0200
TZNAME:CEST
DTSTART:20260329T010000
END:DAYLIGHT
BEGIN:STANDARD
TZOFFSETFROM:+0200
TZOFFSETTO:+0100
TZNAME:CET
DTSTART:20261025T010000
END:STANDARD
END:VTIMEZONE
BEGIN:VEVENT
DTSTART;TZID=Europe/Paris:20250518T130000
DTEND;TZID=Europe/Paris:20250518T173000
DTSTAMP:20260419T143856
CREATED:20250510T232544Z
LAST-MODIFIED:20250510T232544Z
UID:31769-1747573200-1747589400@maglissxs.com
SUMMARY:FF ROLLER ECOLE : passage des tests des ROUES
DESCRIPTION:Organisation chronologique : \n\nde 13H30 à 14H30 : Items compétences de la roue Noire\nA partir de 14h30 et comme suit : Roue JAUNE\, Roue VERTE\, Roue BLEUE\, Roue ROUGE\n\nTarif Pin’s Roue si certification du grade : 5€
URL:https://maglissxs.com/event/ff-roller-ecole-passage-des-tests-des-roues/
LOCATION:Gymnase Georges CARPENTIER (92600)\, 230 rue du Ménil\, Asnières\, 92600\, France
ORGANIZER;CN="CDRS92":MAILTO:comite.cdrs92@gmail.com
END:VEVENT
END:VCALENDAR